BEGIN:VCALENDAR
VERSION:2.0
PRODID:-//Cornish, New Hampshire - ECPv6.15.17//NONSGML v1.0//EN
CALSCALE:GREGORIAN
METHOD:PUBLISH
X-WR-CALNAME:Cornish, New Hampshire
X-ORIGINAL-URL:https://cornish.nh.gov
X-WR-CALDESC:Events for Cornish, New Hampshire
REFRESH-INTERVAL;VALUE=DURATION:PT1H
X-Robots-Tag:noindex
X-PUBLISHED-TTL:PT1H
BEGIN:VTIMEZONE
TZID:America/New_York
BEGIN:DAYLIGHT
TZOFFSETFROM:-0500
TZOFFSETTO:-0400
TZNAME:EDT
DTSTART:20250309T070000
END:DAYLIGHT
BEGIN:STANDARD
TZOFFSETFROM:-0400
TZOFFSETTO:-0500
TZNAME:EST
DTSTART:20251102T060000
END:STANDARD
BEGIN:DAYLIGHT
TZOFFSETFROM:-0500
TZOFFSETTO:-0400
TZNAME:EDT
DTSTART:20260308T070000
END:DAYLIGHT
BEGIN:STANDARD
TZOFFSETFROM:-0400
TZOFFSETTO:-0500
TZNAME:EST
DTSTART:20261101T060000
END:STANDARD
BEGIN:DAYLIGHT
TZOFFSETFROM:-0500
TZOFFSETTO:-0400
TZNAME:EDT
DTSTART:20270314T070000
END:DAYLIGHT
BEGIN:STANDARD
TZOFFSETFROM:-0400
TZOFFSETTO:-0500
TZNAME:EST
DTSTART:20271107T060000
END:STANDARD
END:VTIMEZONE
BEGIN:VEVENT
DTSTART;TZID=America/New_York:20260420T183000
DTEND;TZID=America/New_York:20260420T203000
DTSTAMP:20260420T042635
CREATED:20251229T163240Z
LAST-MODIFIED:20251229T163240Z
UID:16325-1776709800-1776717000@cornish.nh.gov
SUMMARY:Select Board Meeting
DESCRIPTION:The Select Board will hold regular office hours from 6:30-8:30 pm at the Cornish Town Offices\, 488 Town House Road.
URL:https://cornish.nh.gov/event/select-board-meeting-313/
LOCATION:Town Offices (Main Floor)\, 488 Town House Road\, Cornish\, NH\, 03745
CATEGORIES:Select Board
END:VEVENT
BEGIN:VEVENT
DTSTART;TZID=America/New_York:20260420T190000
DTEND;TZID=America/New_York:20260420T203000
DTSTAMP:20260420T042635
CREATED:20251229T161610Z
LAST-MODIFIED:20260331T131642Z
UID:16303-1776711600-1776717000@cornish.nh.gov
SUMMARY:Energy Committee Meeting
DESCRIPTION:CORNISH ENERGY COMMITTEE MEETING.\nCornish Town Offices\, 2nd Fl. Conference Rm.\n\n\n\n\n\n\n\n488 Townhouse Rd.\, Cornish\, NH\n\nThe public is welcome to attend in person or via Zoom.  The Zoom link is below.\n\n\n\n\n\n\n\n\n\n\n\n\n\n\n\n\n\n\n\n\n\n\n\n\nJoin Via Zoom\nMeeting ID: 890 2315 2719\nPasscode: 634743\nTo call in by phone: 929-205-6099 US (New York)
URL:https://cornish.nh.gov/event/energy-committee-meeting-4/
LOCATION:Town Offices (Second Floor)\, 488 Town House Road\, Cornish\, NH\, 03745\, United States
CATEGORIES:Energy Committee
END:VEVENT
END:VCALENDAR